BEGIN:VCALENDAR
VERSION:2.0
BEGIN:VEVENT
CLASS:PUBLIC
CATEGORIES:MEETING
DTSTART;TZID=America/New_York:20250914T143000
DTEND;TZID=America/New_York:20250914T143000
SUMMARY:Dearest Home at Private Event
DESCRIPTION:Age Limit: All Ages
LOCATION:Private Event - Private Event, Westminster, MD, US
END:VEVENT

END:VCALENDAR
