BEGIN:VCALENDAR
VERSION:2.0
BEGIN:VEVENT
CLASS:PUBLIC
CATEGORIES:MEETING
DTSTART;TZID=America/Chicago:20250418T140000
DTEND;TZID=America/Chicago:20250418T140000
SUMMARY:Gerald Harris at BrookDale Retirement Facility 
DESCRIPTION:Age Limit: All Ages
LOCATION:BrookDale Retirement Facility  - 315 Thompson Ave E, St Paul, MN, 55118, US
END:VEVENT

END:VCALENDAR
