BEGIN:VCALENDAR
VERSION:2.0
BEGIN:VEVENT
CLASS:PUBLIC
CATEGORIES:MEETING
DTSTART;TZID=America/New_York:20250424T180000
DTEND;TZID=America/New_York:20250424T180000
SUMMARY:Gerald Harris at DWGN Radio Network , 
DESCRIPTION:Click here to buy tickets: https://live365.com/station/The-Donna-Walton-Gospel-Network-a01677\nAge Limit: All Ages\n\nDetails: Radio Show 
LOCATION:DWGN Radio Network ,  - Wade Park, Cleveland, OH, 44106, US
END:VEVENT

END:VCALENDAR
