BEGIN:VCALENDAR
VERSION:2.0
BEGIN:VEVENT
CLASS:PUBLIC
CATEGORIES:MEETING
DTSTART;TZID=America/Denver:20250626T170000
DTEND;TZID=America/Denver:20250626T170000
SUMMARY:Brian Grace Music at The Well @ Bradford Junction
DESCRIPTION:Age Limit: All Ages\n\nDetails: Brian Grace and DeAnna Wendolyn will be at The Well at Bradford Junction on Thursday, June 26th from 5-8 PM!
LOCATION:The Well @ Bradford Junction - 27051 Barkley Road, Conifer, CO, 80433, US
END:VEVENT

END:VCALENDAR
