BEGIN:VCALENDAR
VERSION:2.0
BEGIN:VEVENT
CLASS:PUBLIC
CATEGORIES:MEETING
DTSTART;TZID=America/New_York:20250405T160000
DTEND;TZID=America/New_York:20250405T160000
SUMMARY:Dearest Home at Trinity Lutheran Church
DESCRIPTION:Price: free\nAge Limit: All Ages\n\nDetails: Dearest Home performs Appalachian, Old Time, and other great American folk songs and tunes! Sing and clap along! No admission charge. Free will donations encouraged.
LOCATION:Trinity Lutheran Church - 15 Randolph St., Hagerstown, PA, 21740, US
END:VEVENT

END:VCALENDAR
