BEGIN:VCALENDAR
VERSION:2.0
BEGIN:VEVENT
CLASS:PUBLIC
CATEGORIES:MEETING
DTSTART;TZID=America/Edmonton:20250926T190000
DTEND;TZID=America/Edmonton:20250926T190000
SUMMARY:Michael Charles at The Wagon Wheel
DESCRIPTION:Age Limit: All Ages\n\nDetails: “The Guitars, Music and Miles 2025 tour drives the power trio of Michael Charles straight to you for a non-stop concert explosion of music and guitars, contemporary blues, high energy rock, and soulful ballads from the forty-one release discography of multi-genre Chicago Blues Hall of Famer Michael Charles.” 
LOCATION:The Wagon Wheel - 2110 19 Street, Nanton, AB, T0L, CA
END:VEVENT

END:VCALENDAR
