BEGIN:VCALENDAR
VERSION:2.0
BEGIN:VEVENT
CLASS:PUBLIC
CATEGORIES:MEETING
DTSTART;TZID=Europe/London:20250411T200000
DTEND;TZID=Europe/London:20250411T200000
SUMMARY:Small Days (Natalie Davis, and Dave Merrick) at The Old Picture House
DESCRIPTION:Price: £10 or £8 (concession)\nClick here to buy tickets: https://dmerr9226@aol.com\nAge Limit: All Ages\n\nDetails: Jazz Movie spoken word and live music
LOCATION:The Old Picture House - 7 Winton Street, Totterdown, Bristol, BST, BS4 2DE, UK
END:VEVENT

END:VCALENDAR
