BEGIN:VCALENDAR
VERSION:2.0
BEGIN:VEVENT
CLASS:PUBLIC
CATEGORIES:MEETING
DTSTART;TZID=America/New_York:20250418T160000
DTEND;TZID=America/New_York:20250418T160000
SUMMARY:PR1 Promotions / DJ Tiburon at Sarasota Sky Bar & Club
DESCRIPTION:Age Limit: All Ages\n\nDetails: Private party 
LOCATION:Sarasota Sky Bar & Club - 1927 Ringling Boulevard, Sarasota, FL, 34236, US
END:VEVENT

END:VCALENDAR
