BEGIN:VCALENDAR
VERSION:2.0
BEGIN:VEVENT
CLASS:PUBLIC
CATEGORIES:MEETING
DTSTART;TZID=America/New_York:20250404T200000
DTEND;TZID=America/New_York:20250404T200000
SUMMARY:Henning Stumm at Lafayette Bar
DESCRIPTION:Age Limit: All Ages
LOCATION:Lafayette Bar - 11 N 4th St, Easton, PA, 18042, US
END:VEVENT

END:VCALENDAR
