BEGIN:VCALENDAR
VERSION:2.0
BEGIN:VEVENT
CLASS:PUBLIC
CATEGORIES:MEETING
DTSTART;TZID=America/New_York:20250411T183000
DTEND;TZID=America/New_York:20250411T183000
SUMMARY:PR1 Promotions / DJ Tiburon at American Legion Glen Peters Post 266
DESCRIPTION:Age Limit: All Ages\n\nDetails: Dinner and dance music provided by  DJ Tiburon of PR1 Promotions. yourself and enjoy yourself.
LOCATION:American Legion Glen Peters Post 266 - 5201 Richardson Road, Sarasota, FL, 34232, US
END:VEVENT

END:VCALENDAR
