BEGIN:VCALENDAR
VERSION:2.0
BEGIN:VEVENT
CLASS:PUBLIC
CATEGORIES:MEETING
DTSTART;TZID=America/New_York:20250419T190000
DTEND;TZID=America/New_York:20250419T190000
SUMMARY:PR1 Promotions / DJ Tiburon at Salty Jim's Island Bar & Grill
DESCRIPTION:Age Limit: All Ages\n\nDetails: Dj Tiburon aka DJ Paco will be moving the music to the vibe of the evening. Come your and chill, dance or just enjoy your night with the best crew around. Outdoor patio available as well as some interesting games and fun. 
LOCATION:Salty Jim's Island Bar & Grill - 3655 Webber Street, Sarasota, FL, 34232, US
END:VEVENT

END:VCALENDAR
