BEGIN:VCALENDAR
VERSION:2.0
BEGIN:VEVENT
CLASS:PUBLIC
CATEGORIES:MEETING
DTSTART;TZID=Europe/Berlin:20260418T200000
DTEND;TZID=Europe/Berlin:20260418T200000
SUMMARY:La Lune Noire at Rockfabrik Eventlocation und Liveclub
DESCRIPTION:Age Limit: All Ages
LOCATION:Rockfabrik Eventlocation und Liveclub - 7 Borsigstraße, Übach-Palenberg, NW, 52531, DE
END:VEVENT

END:VCALENDAR
