BEGIN:VCALENDAR
VERSION:2.0
BEGIN:VEVENT
CLASS:PUBLIC
CATEGORIES:MEETING
DTSTART;TZID=America/New_York:20250315T190000
DTEND;TZID=America/New_York:20250315T190000
SUMMARY:PR1 Promotions / DJ Tiburon at Salty Jim's Island Bar & Grill
DESCRIPTION:Age Limit: 21+\n\nDetails: Non stop mix we dive into the Saturday Vibes PR1 Style. Another DJ TIBURON Experience. . 
LOCATION:Salty Jim's Island Bar & Grill - 3655 Webber Street, Sarasota, FL, 34232, US
END:VEVENT

END:VCALENDAR
