BEGIN:VCALENDAR
VERSION:2.0
BEGIN:VEVENT
CLASS:PUBLIC
CATEGORIES:MEETING
DTSTART;TZID=America/Chicago:20250523T200000
DTEND;TZID=America/Chicago:20250523T200000
SUMMARY:Michael Charles at Buddy Guy's Legends
DESCRIPTION:Age Limit: 18+ or w/ adult\n\nDetails: “The Guitars, Music and Miles 2025 tour drives the power trio of Michael Charles straight to you for a non-stop concert explosion of music and guitars, contemporary blues, high energy rock, and soulful ballads from the forty-one release discography of multi-genre Chicago Blues Hall of Famer Michael Charles.” 
LOCATION:Buddy Guy's Legends - 700 South Wabash Avenue, Chicago, IL, 60605, US
END:VEVENT

END:VCALENDAR
