BEGIN:VCALENDAR
VERSION:2.0
BEGIN:VEVENT
CLASS:PUBLIC
CATEGORIES:MEETING
DTSTART;TZID=Europe/Dublin:20251109T200000
DTEND;TZID=Europe/Dublin:20251109T200000
SUMMARY:The Elders at The Reg Waterford 
DESCRIPTION:Age Limit: All Ages
LOCATION:The Reg Waterford  - 2 The Mall, Vikings Triangle, Waterford, IE
END:VEVENT

END:VCALENDAR
