BEGIN:VCALENDAR
VERSION:2.0
BEGIN:VEVENT
CLASS:PUBLIC
CATEGORIES:MEETING
DTSTART;TZID=Europe/Dublin:20251115T200000
DTEND;TZID=Europe/Dublin:20251115T200000
SUMMARY:The Elders at Camden Court Hotel
DESCRIPTION:Age Limit: All Ages
LOCATION:Camden Court Hotel - Camden Street Lower, Dublin, IE
END:VEVENT

END:VCALENDAR
