BEGIN:VCALENDAR
VERSION:2.0
BEGIN:VEVENT
CLASS:PUBLIC
CATEGORIES:MEETING
DTSTART;TZID=Europe/Dublin:20251107T200000
DTEND;TZID=Europe/Dublin:20251107T200000
SUMMARY:The Elders at The Arklow Bay Hotel
DESCRIPTION:Age Limit: All Ages
LOCATION:The Arklow Bay Hotel - Lower Main Street, Ferrybank, Arklow, IE
END:VEVENT

END:VCALENDAR
