BEGIN:VCALENDAR
VERSION:2.0
BEGIN:VEVENT
CLASS:PUBLIC
CATEGORIES:MEETING
DTSTART;TZID=Europe/Dublin:20251106T200000
DTEND;TZID=Europe/Dublin:20251106T200000
SUMMARY:The Elders at Arklow Golf Club
DESCRIPTION:Age Limit: All Ages
LOCATION:Arklow Golf Club - Lower Main Street, Arklow, IE
END:VEVENT

END:VCALENDAR
