BEGIN:VCALENDAR
VERSION:2.0
BEGIN:VEVENT
CLASS:PUBLIC
CATEGORIES:MEETING
DTSTART;TZID=Asia/Kolkata:20250219T200000
DTEND;TZID=Asia/Kolkata:20250219T200000
SUMMARY:Rahul Verma at Rahul Verma
DESCRIPTION:Click here to buy tickets: https://balrakshabharat.org/blog/education/girl-child-education-key-to-freeing-girls-from-social-barriers/\nAge Limit: All Ages\n\nDetails: Girls education is crucial for breaking the cycle of poverty, improving health outcomes, and empowering communities. When girls are educated, they gain the confidence to make informed decisions, contribute to the economy, and advocate for their rights. Bal Raksha Bharat works at the grassroots level to provide scholarships, safe learning environments, and digital education programs to underprivileged girls.
LOCATION:Rahul Verma - D-61, East of Kailash, New Delhi, Delhi, DL, 110065, IN
END:VEVENT

END:VCALENDAR
