BEGIN:VCALENDAR
VERSION:2.0
BEGIN:VEVENT
CLASS:PUBLIC
CATEGORIES:MEETING
DTSTART;TZID=America/Chicago:20250628T131500
DTEND;TZID=America/Chicago:20250628T131500
SUMMARY:Michael Charles at Duke' Blues Fest
DESCRIPTION:Age Limit: All Ages\n\nDetails: “The Guitars, Music and Miles 2025 tour drives the power trio of Michael Charles straight to Duke&#39;s Blues Festival for a non-stop concert explosion of music and guitars, contemporary blues, high energy rock, and soulful ballads from the forty-one release discography of multi-genre Chicago Blues Hall of Famer Michael Charles.
LOCATION:Duke' Blues Fest - 351 Carpenter Boulevard, Carpentersville, IL, 60110, US
END:VEVENT

END:VCALENDAR
