BEGIN:VCALENDAR
VERSION:2.0
BEGIN:VEVENT
CLASS:PUBLIC
CATEGORIES:MEETING
DTSTART;TZID=America/Chicago:20250502T200000
DTEND;TZID=America/Chicago:20250502T200000
SUMMARY:Michael Charles at The Oak Room of Columbus
DESCRIPTION:Age Limit: All Ages\n\nDetails: Join us for the BBQ &amp; Blues stop on our “Guitars, Music and Miles 2025&quot; tour as we drive the power trio of Michael Charles straight to you for a non-stop concert explosion of music and guitars, contemporary blues, high energy rock, and soulful ballads from the forty-one release discography of multi-genre Chicago Blues Hall of Famer Michael Charles.” 
LOCATION:The Oak Room of Columbus - 1270 27th Avenue, Columbus, NE, 68601, US
END:VEVENT

END:VCALENDAR
