BEGIN:VCALENDAR
VERSION:2.0
BEGIN:VEVENT
CLASS:PUBLIC
CATEGORIES:MEETING
DTSTART;TZID=America/New_York:20250905T200000
DTEND;TZID=America/New_York:20250905T200000
SUMMARY:The Elders at Syracuse Irish Festival
DESCRIPTION:Age Limit: All Ages\n\nDetails: FREE ADMISSION
LOCATION:Syracuse Irish Festival - Clinton Square, Syracuse, NY, 11231, US
END:VEVENT

END:VCALENDAR
