BEGIN:VCALENDAR
VERSION:2.0
BEGIN:VEVENT
CLASS:PUBLIC
CATEGORIES:MEETING
DTSTART;TZID=America/Chicago:20250322T190000
DTEND;TZID=America/Chicago:20250322T190000
SUMMARY:Michael Charles at The Rivers Edge Saloon
DESCRIPTION:Age Limit: All Ages\n\nDetails: “The Guitars, Music and Miles 2025 tour drives the power trio of Michael Charles straight to you for a non-stop concert explosion of music and guitars, contemporary blues, high energy rock, and soulful ballads from the forty-one release discography of multi-genre Chicago Blues Hall of Famer Michael Charles.” 
LOCATION:The Rivers Edge Saloon - 10167 Wisconsin 27, Hayward, WI, 54843, US
END:VEVENT

END:VCALENDAR
