BEGIN:VCALENDAR
VERSION:2.0
BEGIN:VEVENT
CLASS:PUBLIC
CATEGORIES:MEETING
DTSTART;TZID=America/Los_Angeles:20250222T150000
DTEND;TZID=America/Los_Angeles:20250222T150000
SUMMARY:Niki J Crawford at Miller Park
DESCRIPTION:Price: Free\nClick here to buy tickets: https://www.fontanaca.gov/3538/Jazz-Fest-A-Black-History-Celebration\nAge Limit: All Ages\n\nDetails: Saturday, February 22, 2025\n3:00pm - 7:00pm \nMiller Amphitheater\n17004 Arrow Blvd. \nNiki J Crawford - 5:30pm\n\nThe annual event Jazz Fest: A Black History Celebration is a vibrant community event honoring the rich legacy of jazz music and its profound impact on Black History. Featuring live performances, educational workshops and local food &amp; art vendors, the festival invites attendees to explore and celebrate the resilience, creativity, and contributions of Black artists to America&#39;s cultural heritage.
LOCATION:Miller Park - 17004 Arrow Boulevard, Fontana, CA, 92335, US
END:VEVENT

END:VCALENDAR
