BEGIN:VCALENDAR
VERSION:2.0
BEGIN:VEVENT
CLASS:PUBLIC
CATEGORIES:MEETING
DTSTART;TZID=America/Chicago:20250503T200000
DTEND;TZID=America/Chicago:20250503T200000
SUMMARY:Michael Charles at The Ideal Theater and Bar
DESCRIPTION:Click here to buy tickets: https://www.idealtheaterandbar.com/event-details/michael-charles-secret-formula\nAge Limit: 18+ or w/ adult\n\nDetails: “The Guitars, Music and Miles 2025 tour drives the power trio of Michael Charles straight to you for a non-stop concert explosion of music and guitars, contemporary blues, high energy rock, and soulful ballads from the forty-release discography of multi-genre Chicago Blues Hall of Famer Michael Charles.” 
LOCATION:The Ideal Theater and Bar - 213 16th Avenue Southeast, Cedar Rapids, IA, 52403, US
END:VEVENT

END:VCALENDAR
