BEGIN:VCALENDAR
VERSION:2.0
BEGIN:VEVENT
CLASS:PUBLIC
CATEGORIES:MEETING
DTSTART;TZID=America/New_York:20250317T110000
DTEND;TZID=America/New_York:20250317T110000
SUMMARY:Cormorant's Fancy at Ganly's Irish Pub & Restaurant
DESCRIPTION:Click here to buy tickets: https://www.ganlysirishpub.com\nAge Limit: All Ages\n\nDetails: All your favorite Irish music on the best day of the year, while you enjoy Ganly&#39;s unbeatable food and drink! Sing, dance, and clap along between mouthfuls! The band plays11:00 am-2:00 pm. Please visit www.cormorantsfancy.com/calendar for details.
LOCATION:Ganly's Irish Pub & Restaurant - 500 Brownsville Road, Sinking Spring, PA, 19608, US
END:VEVENT

END:VCALENDAR
