BEGIN:VCALENDAR
VERSION:2.0
BEGIN:VEVENT
CLASS:PUBLIC
CATEGORIES:MEETING
DTSTART;TZID=America/Detroit:20250214T190000
DTEND;TZID=America/Detroit:20250214T190000
SUMMARY:Michael Charles at Watermark Brewing Company
DESCRIPTION:Age Limit: All Ages\n\nDetails: “The Guitars, Music and Miles 2025 tour drives the power trio of Michael Charles straight to you for a non-stop concert explosion of music and guitars, contemporary blues, high energy rock, and soulful ballads from the forty-release discography of multi-genre Chicago Blues Hall of Famer Michael Charles.” 
LOCATION:Watermark Brewing Company - 5781 Saint Joseph Avenue, Stevensville, MI, 49127, US
END:VEVENT

END:VCALENDAR
