BEGIN:VCALENDAR
VERSION:2.0
BEGIN:VEVENT
CLASS:PUBLIC
CATEGORIES:MEETING
DTSTART:20250330T223000Z
DTEND:20250330T223000Z
SUMMARY:Michael Charles at Columbia Valley Centre
DESCRIPTION:Click here to buy tickets: https://www.eventbrite.ca/e/1226930174179?aff=oddtdtcreator\nAge Limit: All Ages\n\nDetails: “The Guitars, Music and Miles 2025 tour drives the power trio of Michael Charles straight to you for a non-stop concert explosion of music and guitars, contemporary blues, high energy rock, and soulful ballads from the forty-release discography of multi-genre Chicago Blues Hall of Famer Michael Charles.” 
LOCATION:Columbia Valley Centre - Invermere, BC, CA
END:VEVENT

END:VCALENDAR
