BEGIN:VCALENDAR
VERSION:2.0
BEGIN:VEVENT
CLASS:PUBLIC
CATEGORIES:MEETING
DTSTART;TZID=America/New_York:20250525T160000
DTEND;TZID=America/New_York:20250525T160000
SUMMARY:Lisa Martin at Glendale Ridge
DESCRIPTION:Age Limit: All Ages\n\nDetails: Trio show at one of our favorite spots! Enjoy a fun afternoon at this beautiful vineyard. Bring your own picnic or visit the food truck on site. Music til 7pm
LOCATION:Glendale Ridge - 155 Glendale Road, Southampton, MA, 01073, US
END:VEVENT

END:VCALENDAR
