BEGIN:VCALENDAR
VERSION:2.0
BEGIN:VEVENT
CLASS:PUBLIC
CATEGORIES:MEETING
DTSTART;TZID=America/New_York:20250221T180000
DTEND;TZID=America/New_York:20250221T180000
SUMMARY:Lisa Martin at Delaney House
DESCRIPTION:Age Limit: All Ages\n\nDetails: Trio show playing your favorite songs! Folk-rock-country-blues, originals and covers. Music til 9pm
LOCATION:Delaney House - 3 Country Club Rd, Holyoke, MA, 01040, US
END:VEVENT

END:VCALENDAR
