BEGIN:VCALENDAR
VERSION:2.0
BEGIN:VEVENT
CLASS:PUBLIC
CATEGORIES:MEETING
DTSTART;TZID=America/Regina:20251004T200000
DTEND;TZID=America/Regina:20251004T200000
SUMMARY:Michael Charles at Bobby's Place Olde World Tavern
DESCRIPTION:Age Limit: All Ages\n\nDetails: “The Guitars, Music and Miles 2025 tour drives the power trio of Michael Charles straight to you for a non-stop concert explosion of music and guitars, contemporary blues, high energy rock, and soulful ballads from the forty-release discography of multi-genre Chicago Blues Hall of Famer Michael Charles.” 
LOCATION:Bobby's Place Olde World Tavern - 63 High Street West, Moose Jaw, SK, S6H 1S4, CA
END:VEVENT

END:VCALENDAR
