BEGIN:VCALENDAR
VERSION:2.0
BEGIN:VEVENT
CLASS:PUBLIC
CATEGORIES:MEETING
DTSTART;TZID=America/Chicago:20250616T190000
DTEND;TZID=America/Chicago:20250616T190000
SUMMARY:Michael Charles at Tall Ship Windy
DESCRIPTION:Click here to buy tickets: https://www.lakeshoresail.com/sailing-experiences/monday-night-concert-series-2025/\nAge Limit: All Ages\n\nDetails: Join us for Monday Night Blues Cruise “The Guitars, Music and Miles 2025 tour drives the power trio of Michael Charles straight to you for a non-stop concert explosion of music and guitars, contemporary blues, high energy rock, and soulful ballads from the forty-release discography of multi-genre Chicago Blues Hall of Famer Michael Charles.” 
LOCATION:Tall Ship Windy - 600 E Grand Ave, Chicago, IL, 60611, US
END:VEVENT

END:VCALENDAR
