BEGIN:VCALENDAR
VERSION:2.0
BEGIN:VEVENT
CLASS:PUBLIC
CATEGORIES:MEETING
DTSTART;TZID=Europe/Dublin:20251114T200000
DTEND;TZID=Europe/Dublin:20251114T200000
SUMMARY:The Elders at Taylor's Three Rock 
DESCRIPTION:Age Limit: All Ages
LOCATION:Taylor's Three Rock  - Dublin City, Co Dublin, IE
END:VEVENT

END:VCALENDAR
