BEGIN:VCALENDAR
VERSION:2.0
BEGIN:VEVENT
CLASS:PUBLIC
CATEGORIES:MEETING
DTSTART;TZID=America/Chicago:20250831T200000
DTEND;TZID=America/Chicago:20250831T200000
SUMMARY:The Elders at Kansas City Irish Fest
DESCRIPTION:Age Limit: All Ages
LOCATION:Kansas City Irish Fest - Crown Center, Kansas City, MO, 64108, US
END:VEVENT

END:VCALENDAR
