BEGIN:VCALENDAR
VERSION:2.0
BEGIN:VEVENT
CLASS:PUBLIC
CATEGORIES:MEETING
DTSTART;TZID=America/Chicago:20250221T193000
DTEND;TZID=America/Chicago:20250221T193000
SUMMARY:Michael Charles at Leo & Leona's
DESCRIPTION:Click here to buy tickets: https://www.leoandleonas.com/event-details/michael-charles\nAge Limit: 18+ or w/ adult\n\nDetails: “The Guitars, Music and Miles 2025 tour drives the power trio of Michael Charles straight to you for a non-stop concert explosion of music and guitars, contemporary blues, high energy rock, and soulful ballads from the forty-release discography of multi-genre Chicago Blues Hall of Famer Michael Charles.” 
LOCATION:Leo & Leona's - W1436 Wisconsin 33, Bangor, WI, 54614, US
END:VEVENT

END:VCALENDAR
