BEGIN:VCALENDAR
VERSION:2.0
BEGIN:VEVENT
CLASS:PUBLIC
CATEGORIES:MEETING
DTSTART;TZID=America/Los_Angeles:20250418T180000
DTEND;TZID=America/Los_Angeles:20250418T180000
SUMMARY:Silver Lining at Taco Surf
DESCRIPTION:Age Limit: All Ages
LOCATION:Taco Surf - 16281 Pacific Coast Hwy, Sunset Beach, CA, 90743, US
END:VEVENT

END:VCALENDAR
