BEGIN:VCALENDAR
VERSION:2.0
BEGIN:VEVENT
CLASS:PUBLIC
CATEGORIES:MEETING
DTSTART;TZID=America/Los_Angeles:20250329T190000
DTEND;TZID=America/Los_Angeles:20250329T190000
SUMMARY:Silver Lining at Malainey's Grill & One Hell of an Irish Bar
DESCRIPTION:Price: free\nAge Limit: All Ages
LOCATION:Malainey's Grill & One Hell of an Irish Bar - 168 North Marina Drive, Long Beach, CA, 90803, US
END:VEVENT

END:VCALENDAR
