BEGIN:VCALENDAR
VERSION:2.0
BEGIN:VEVENT
CLASS:PUBLIC
CATEGORIES:MEETING
DTSTART;TZID=America/Los_Angeles:20250315T090000
DTEND;TZID=America/Los_Angeles:20250315T090000
SUMMARY:Silver Lining at Angel Stadium of Anaheim
DESCRIPTION:Age Limit: All Ages
LOCATION:Angel Stadium of Anaheim - Anaheim, CA, US
END:VEVENT

END:VCALENDAR
