BEGIN:VCALENDAR
VERSION:2.0
BEGIN:VEVENT
CLASS:PUBLIC
CATEGORIES:MEETING
DTSTART;TZID=America/Vancouver:20250216T100000
DTEND;TZID=America/Vancouver:20250216T100000
SUMMARY:Sillken at Port Moody Winter Market
DESCRIPTION:Age Limit: All Ages
LOCATION:Port Moody Winter Market - 300 Ioco Road, Port Moody, BC, V3H, CA
END:VEVENT

END:VCALENDAR
