BEGIN:VCALENDAR
VERSION:2.0
BEGIN:VEVENT
CLASS:PUBLIC
CATEGORIES:MEETING
DTSTART;TZID=America/Edmonton:20250406T130000
DTEND;TZID=America/Edmonton:20250406T130000
SUMMARY:Michael Charles at Provost & District Performing Arts Guild
DESCRIPTION:Age Limit: All Ages\n\nDetails: “The Guitars, Music and Miles 2025 tour drives the power trio of Michael Charles straight to you for a non-stop concert explosion of music and guitars, contemporary blues, high energy rock, and soulful ballads from the forty-release discography of multi-genre Chicago Blues Hall of Famer Michael Charles.” 
LOCATION:Provost & District Performing Arts Guild - 4904 51 Avenue, Provost, AB, T0B, CA
END:VEVENT

END:VCALENDAR
