BEGIN:VCALENDAR
VERSION:2.0
BEGIN:VEVENT
CLASS:PUBLIC
CATEGORIES:MEETING
DTSTART;TZID=America/Regina:20250409T210000
DTEND;TZID=America/Regina:20250409T210000
SUMMARY:Michael Charles at Buds on Broadway
DESCRIPTION:Age Limit: 18+ or w/ adult\n\nDetails: “The Guitars, Music and Miles 2025 tour drives the power trio of Michael Charles straight to you for a non-stop concert explosion of music and guitars, contemporary blues, high energy rock, and soulful ballads from the forty-release discography of multi-genre Chicago Blues Hall of Famer Michael Charles.” 
LOCATION:Buds on Broadway - Saskatoon, SK, XXX XXX, CA
END:VEVENT

END:VCALENDAR
