BEGIN:VCALENDAR
VERSION:2.0
BEGIN:VEVENT
CLASS:PUBLIC
CATEGORIES:MEETING
DTSTART;TZID=America/Edmonton:20250405T200000
DTEND;TZID=America/Edmonton:20250405T200000
SUMMARY:Michael Charles at The Bailey Theatre
DESCRIPTION:Click here to buy tickets: https://tickets.baileytheatre.com/TheatreManager/2/online?performance=2452\nAge Limit: All Ages\n\nDetails: “The Guitars, Music and Miles 2025 tour drives the power trio of Michael Charles straight to you for a non-stop concert explosion of music and guitars, contemporary blues, high energy rock, and soulful ballads from the forty-release discography of multi-genre Chicago Blues Hall of Famer Michael Charles.” 
LOCATION:The Bailey Theatre - 5041 50 Street, Camrose, AB, T4V 1R3, CA
END:VEVENT

END:VCALENDAR
