BEGIN:VCALENDAR
VERSION:2.0
BEGIN:VEVENT
CLASS:PUBLIC
CATEGORIES:MEETING
DTSTART;TZID=America/Edmonton:20250404T190000
DTEND;TZID=America/Edmonton:20250404T190000
SUMMARY:Michael Charles at Blue Chair Cafe
DESCRIPTION:Age Limit: 18+ or w/ adult\n\nDetails: “The Guitars, Music and Miles 2025 tour drives the power trio of Michael Charles straight to you for a non-stop concert explosion of music and guitars, contemporary blues, high energy rock, and soulful ballads from the forty-release discography of multi-genre Chicago Blues Hall of Famer Michael Charles.” 
LOCATION:Blue Chair Cafe - 9624 76 Ave NW, Edmonton, AB, T6C 0K3, CA
END:VEVENT

END:VCALENDAR
