BEGIN:VCALENDAR
VERSION:2.0
BEGIN:VEVENT
CLASS:PUBLIC
CATEGORIES:MEETING
DTSTART;TZID=America/Edmonton:20250403T200000
DTEND;TZID=America/Edmonton:20250403T200000
SUMMARY:Michael Charles at Tropicana Bar & Grill
DESCRIPTION:Click here to buy tickets: https://www.showpass.com/michael-charles-at-the-trop/\nAge Limit: 18+ or w/ adult\n\nDetails: Coming to The Trop Bar and Grill                          “The Guitars, Music and Miles 2025 tour drives the power trio of Michael Charles straight to you for a non-stop concert explosion of music and guitars, contemporary blues, high energy rock, and soulful ballads from the forty-release discography of multi-genre Chicago Blues Hall of Famer Michael Charles.” 
LOCATION:Tropicana Bar & Grill - 1501 34 Ave SW, Calgary, AB, T2T, CA
END:VEVENT

END:VCALENDAR
