BEGIN:VCALENDAR
VERSION:2.0
BEGIN:VEVENT
CLASS:PUBLIC
CATEGORIES:MEETING
DTSTART;TZID=America/Edmonton:20250329T190000
DTEND;TZID=America/Edmonton:20250329T190000
SUMMARY:Michael Charles at Murph's Pub and Grill
DESCRIPTION:Age Limit: All Ages\n\nDetails: “The Guitars, Music and Miles 2025 tour drives the power trio of Michael Charles straight to you for a non-stop concert explosion of music and guitars, contemporary blues, high energy rock, and soulful ballads from the forty-release discography of multi-genre Chicago Blues Hall of Famer Michael Charles.” 
LOCATION:Murph's Pub and Grill - 5020 47 Avenue, Red Deer, AB, T4N, CA
END:VEVENT

END:VCALENDAR
