BEGIN:VCALENDAR
VERSION:2.0
BEGIN:VEVENT
CLASS:PUBLIC
CATEGORIES:MEETING
DTSTART;TZID=America/Chicago:20270103T113000
DTEND;TZID=America/Chicago:20270103T113000
SUMMARY:Gospel Sunday Brunch / Jim Sloan & Friends 11:30a-2p / Breakfast & Doors at 7:00am / Music at 11:30am at THE RED BRICK TAVERN
DESCRIPTION:Price: No Cover/Tips Suggested\nAge Limit: All Ages
LOCATION:THE RED BRICK TAVERN - 119 Simonton Street, Conroe, TX, 77301, US
END:VEVENT

END:VCALENDAR
