BEGIN:VCALENDAR
VERSION:2.0
BEGIN:VEVENT
CLASS:PUBLIC
CATEGORIES:MEETING
DTSTART;TZID=America/Chicago:20250302T150000
DTEND;TZID=America/Chicago:20250302T150000
SUMMARY:Michael Charles at Pop's Place
DESCRIPTION:Age Limit: All Ages\n\nDetails: “The Guitars, Music and Miles 2025 tour drives the power trio of Michael Charles straight to you for a non-stop concert explosion of music and guitars, contemporary blues, high energy rock, and soulful ballads from the forty-release discography of multi-genre Chicago Blues Hall of Famer Michael Charles.”  
LOCATION:Pop's Place - 4335 W Main St, Decatur, IL, 62522, US
END:VEVENT

END:VCALENDAR
