BEGIN:VCALENDAR
VERSION:2.0
BEGIN:VEVENT
CLASS:PUBLIC
CATEGORIES:MEETING
DTSTART;TZID=America/Chicago:20250830T180000
DTEND;TZID=America/Chicago:20250830T180000
SUMMARY:Michael Charles at 2025 Music in the Park - Ottawa Illinois
DESCRIPTION:Age Limit: All Ages\n\nDetails: 2025 Tour
LOCATION:2025 Music in the Park - Ottawa Illinois - Washington Park 101 East Lafayette Street, Ottawa, IL, 61350, US
END:VEVENT

END:VCALENDAR
