BEGIN:VCALENDAR
VERSION:2.0
BEGIN:VEVENT
CLASS:PUBLIC
CATEGORIES:MEETING
DTSTART;TZID=America/Los_Angeles:20241025T200000
DTEND;TZID=America/Los_Angeles:20241025T200000
SUMMARY:"Fetal Zombie" at The Canby
DESCRIPTION:Age Limit: 21+
LOCATION:The Canby - 17728 Vanowen Street, Los Angeles, CA, 91335, US
END:VEVENT

END:VCALENDAR
