BEGIN:VCALENDAR
VERSION:2.0
BEGIN:VEVENT
CLASS:PUBLIC
CATEGORIES:MEETING
DTSTART;TZID=Europe/London:20241101T180000
DTEND;TZID=Europe/London:20241101T180000
SUMMARY:BB BlackDog Steampunk Rock at The Black Market Venue
DESCRIPTION:Price: £30\nClick here to buy tickets: https://www.gigantic.com/phoenix-alternative-festivals-tickets/warsop-black-market/2024-11-01-18-00\nAge Limit: All Ages\n\nDetails: 2 Day Festival, \nLineup as Follows\nPhoenix Stage Line up and Times\n\nMarket and demonstrations open from  17:00 Friday and 11:00 Saturday\nStage Key, A Main, B Side\n\n\nFriday   (Bar closes 12:30  Curfew 01:00) \nYour  Hosts Jezebel Steele \n19:00 – 19:50 B  Modulator ESP\n20:00 - 20:50  A  The Wattingers                            \n21:00 - 21:50  B  Darmus\n22:00 - 23:30  A BB BlackDog	\n23:30 - 00:30 B Jezebel Steele&#39;s Late night Cabaret, Best Haloween Costume \n\nSaturday (Bar closes 12:30  Curfew 01:00) \nYour Hosts  Jezebel Steele \n \n12:00 – 12:15  A Thai Chi\n12:30 - 13:50  A Teapot Racing \n14:00 – 14:20  Outside,  Fire Eating Demonstration With Gregory O&#39;Regan  \n14:30 – 14:50  A Official Welcome, Costume Competition,\n15:00 – 15:50  B  The Star Botherers\n16:00 - 16:50  A  Dadaxl\n17:00 - 17:50  B   Ben Culkin\n18:00 - 18:50 A   DrackenFlug\n19:00 - 19:50  B   The Spiral Navigators                              \n20:00 - 20:50 A Kid Klumsy\n21:00 - 21:50  B  Def Neon \n22:00 - 23:30  A The Hawklords\n23:30 - 00:30  B Jezebel Steele&#39;s Late night Cabaret \n\nSunday    \nOpen for Breakfasts at 10
LOCATION:The Black Market Venue - High Street, Mansfield, NOTTS, NG20 0AB, UK
END:VEVENT

END:VCALENDAR
